BEGIN:VCALENDAR
VERSION:2.0
PRODID:-//Department Of Education//3551614e-a4fe-4a10-9fa3-b8a10ef69272
BEGIN:VTIMEZONE
TZID:Australia/Sydney
TZURL:http://tzurl.org/zoneinfo-outlook/Australia/Sydney
X-LIC-LOCATION:Australia/Sydney
BEGIN:STANDARD
TZOFFSETFROM:+1100
TZOFFSETTO:+1000
TZNAME:AEST
DTSTART:19700405T030000
RRULE:FREQ=YEARLY;BYMONTH=4;BYDAY=1SU
END:STANDARD
BEGIN:DAYLIGHT
TZOFFSETFROM:+1000
TZOFFSETTO:+1100
TZNAME:AEDT
DTSTART:19701004T020000
RRULE:FREQ=YEARLY;BYMONTH=10;BYDAY=1SU
END:DAYLIGHT
END:VTIMEZONE
CALSCALE:GREGORIAN
X-WR-TIMEZONE:Australia/Sydney
BEGIN:VEVENT
DTSTART;TZID=Australia/Sydney:20191101T090058
DTEND;TZID=Australia/Sydney:20191101T130017
DTSTAMP:20191101T000000Z
UID:dbd0f165-ef11-4c3d-bbfb-11599be7576d
LOCATION:The Waratah Centre
SUMMARY;LANGUAGE=en-us:Community Access
RRULE:FREQ=WEEKLY;INTERVAL=1;UNTIL=20201101;
SEQUENCE:0
DESCRIPTION:  A positive rewards based sytem that promotes good behaviour and results in opportuinities for students to particapate in community access events.    
END:VEVENT
TRANSP:TRANSPARENT
END:VCALENDAR
