BEGIN:VCALENDAR
VERSION:2.0
PRODID:-//Department Of Education//5efb0a6d-5b02-4108-9b6e-abdaff39c194
BEGIN:VTIMEZONE
TZID:Australia/Sydney
TZURL:http://tzurl.org/zoneinfo-outlook/Australia/Sydney
X-LIC-LOCATION:Australia/Sydney
BEGIN:STANDARD
TZOFFSETFROM:+1100
TZOFFSETTO:+1000
TZNAME:AEST
DTSTART:19700405T030000
RRULE:FREQ=YEARLY;BYMONTH=4;BYDAY=1SU
END:STANDARD
BEGIN:DAYLIGHT
TZOFFSETFROM:+1000
TZOFFSETTO:+1100
TZNAME:AEDT
DTSTART:19701004T020000
RRULE:FREQ=YEARLY;BYMONTH=10;BYDAY=1SU
END:DAYLIGHT
END:VTIMEZONE
CALSCALE:GREGORIAN
X-WR-TIMEZONE:Australia/Sydney
BEGIN:VEVENT
DTSTART;TZID=Australia/Sydney:20200309T080030
DTEND;TZID=Australia/Sydney:20200311T140040
DTSTAMP:20200309T000000Z
UID:659285f0-e4f9-4b41-9673-b452d3a74246
LOCATION:One Mile Beach, Port Stephens
SUMMARY;LANGUAGE=en-us:One Mile Beach Camp
SEQUENCE:0
DESCRIPTION:Term 1's camp is to One Mile Beach in Port Stephens. Dates: 9-11 March, 2020 We will be leaving school on the Monday morning at around 8:00 am Arriving back at school around 2:00 pm on the Wednesday. Notes will be sent home to students invited to attend.
END:VEVENT
TRANSP:TRANSPARENT
END:VCALENDAR
